BEGIN:VCALENDAR
VERSION:2.0
METHOD:PUBLISH
BEGIN:VEVENT
UID:WILD_APRICOT_EVENT_2398066_SESSION_1
DTSTART:20170225T230000Z
DTEND:20170225T230000Z
SUMMARY:BMWMCCACT February Monthly General Meeting (Club Event)
LOCATION:Little Oink\, Cook ACT
DESCRIPTION:https://www.bmwmccact.org.au/event-2398066\n\nUpdate 9 Feb 17\n  The President is in South Australia for Speed Week at Lake Gairdner or on his way to Birdsville (lsubject to his left or right hand turn at Cradock).\n  As the General Meeting is without a host\, it has been moved to social meet at the Little Oink Café\, 22 Cook Place Cook with those who attend having the option to arrange a ride of their own choosing after.   Need a map? Click here.  The Little Oink has limited inside seating\, but there is also outside tables and chairs for that alfresco feeling.\n  See you all at our March meeting.\n
DTSTAMP:20260424T170453Z
END:VEVENT
END:VCALENDAR
