BEGIN:VCALENDAR
VERSION:2.0
METHOD:PUBLISH
BEGIN:VEVENT
UID:WILD_APRICOT_EVENT_2377909_SESSION_1
DTSTART:20170428T050000Z
DTEND:20170430T050000Z
SUMMARY:30th Autumn Leaf Rally\, Tumut Valley Riders
LOCATION:Tumorrama Hall
DESCRIPTION:https://www.bmwmccact.org.au/event-2377909\n\nTumut Valley Riders (TVR) are hosting their 29th Autumn Leaf Rally at Tumorrama Hall\, ~ 35 km E of Tumut on the Wee Jasper Road.  Google Map location here.  The TVR Rally flyer is here with info and contact details.  Routes from Canberra include via Wee Jasper (for the GS group) or Coolac that only has a few km's of generally good dirt.\n  This rally has a gymkhana\, raffle and huge bonfire with live bands.  Food is available for sale and BYOG.  $20 at the gate and includes a badge.\n
DTSTAMP:20260424T172123Z
END:VEVENT
END:VCALENDAR
