BEGIN:VCALENDAR
VERSION:2.0
METHOD:PUBLISH
BEGIN:VEVENT
UID:WILD_APRICOT_EVENT_2370926_SESSION_1
DTSTART:20170805T020000Z
DTEND:20170812T080000Z
SUMMARY:2017 BMW GS Safari Enduro (Club Event)
LOCATION:Cairns & Cape York\, Far North Queensland
DESCRIPTION:https://www.bmwmccact.org.au/event-2370926\n\n\n  Join BMW for one of Australia’s epic rides\, through Cape York to the most northern point of the country and back. Ride across rivers\, remote deserted beaches and lush rain forest trails. This might be the trip you’ve always dreamed of doing and now here’s your chance. We will be riding from Cairns to the Cape return over 7 days. This is a trip that should be on every rider’s Bucket List.\n  Registration opens 4 April 2017.  Check the website for details and registration here.\n
DTSTAMP:20260424T172415Z
END:VEVENT
END:VCALENDAR
