BEGIN:VCALENDAR
VERSION:2.0
METHOD:PUBLISH
BEGIN:VEVENT
UID:WILD_APRICOT_EVENT_2368495_SESSION_1
DTSTART:20170331T010000Z
DTEND:20170402T020000Z
SUMMARY:9th Far Cairn Rally\, BMWTCNSW
LOCATION:Tottenham\, NSW
DESCRIPTION:https://www.bmwmccact.org.au/event-2368495\n\nThe BMWTCNSW hosts the Far Cairn Rally and raises money for the Motorcycle Accident Research Initiative or MARI based at Prince of Wales Hospital.  Check out the flyer here or website BMWTCNSW.\n  The 2016 Far Cairn was cancelled following floods in mid-west NSW and 1st 2017 due to a double booking in Tottenham..\n
DTSTAMP:20260424T170524Z
END:VEVENT
END:VCALENDAR
