BEGIN:VCALENDAR
VERSION:2.0
METHOD:PUBLISH
BEGIN:VEVENT
UID:WILD_APRICOT_EVENT_2349730_SESSION_1
DTSTART:20170804T140000Z
DTEND:20170806T140000Z
SUMMARY:Border Run (Rally)\, Border Village SA
LOCATION:Border Village\, SA
DESCRIPTION:https://www.bmwmccact.org.au/event-2349730\n\nLike riding straight roads?\n  Then the Border Run (rally) should be on your bucket list and gives you the opportunity to meet up with West Coast riders along with motorcyclists from all over eastern Australia.\n  Held over the first weekend in August at the Border Village SA and a mere 2300km from Canberra.  \n
DTSTAMP:20260424T171338Z
END:VEVENT
END:VCALENDAR
