BEGIN:VCALENDAR
VERSION:2.0
METHOD:PUBLISH
BEGIN:VEVENT
UID:WILD_APRICOT_EVENT_2348754_SESSION_1
DTSTART:20170223T210000Z
DTEND:20170226T050000Z
SUMMARY:2017 Superbike World Championship
LOCATION:Phillip Island\, Victoria
DESCRIPTION:https://www.bmwmccact.org.au/event-2348754\n\n\n2017 Superbike World Championship \n    Date: 24 - 26 February 2017*\n  Promoter: PI SBK Pty Ltd\n  Phillip Island Grand Prix Circuit is home to the closest finishes on the Superbike World Championship calendar\, with 2017 set to be no different.\n  Going?  Then check the website for race information and tickets\, http://worldsbk.com.au/world-sbk-home\n
DTSTAMP:20260424T163912Z
END:VEVENT
END:VCALENDAR
