BEGIN:VCALENDAR
VERSION:2.0
METHOD:PUBLISH
BEGIN:VEVENT
UID:WILD_APRICOT_EVENT_2348745_SESSION_1
DTSTART:20161123T130000Z
DTEND:20161127T130000Z
SUMMARY:Burt Munro Challenge 2016\, Invercargill New Zealand
LOCATION:Invercargill\, New Zealand
DESCRIPTION:https://www.bmwmccact.org.au/event-2348745\n\nThe 11th annual Burt Munro Challenge will take place in Southland\, New Zealand\, from 24-27 November 2016. \n  Check the NZ tourism website or Organisers website and book Canberra - Christchurch plane ticket or Canberra - Auckland plane ticket.\n
DTSTAMP:20260424T170702Z
END:VEVENT
END:VCALENDAR
