BEGIN:VCALENDAR
VERSION:2.0
METHOD:PUBLISH
BEGIN:VEVENT
UID:WILD_APRICOT_EVENT_2348733_SESSION_1
DTSTART:20170322T210000Z
DTEND:20170326T050000Z
SUMMARY:2017 QBE International Festival of Speed (Club Event)
LOCATION:Sydney Motorsport Park\, Eastern Creek Sydney
DESCRIPTION:https://www.bmwmccact.org.au/event-2348733\n\n Join the Club for a day ride to Sydney Motorsport Park and a day's spectating at the QBE International Festival of Speed (previously Barry Sheene...)\n  Check the website for details https://www.internationalfestivalofspeed.com/\n  Subject to registered interest the Club day run would be Saturday ($35) or Sunday ($40) at the gate or $85 for a 3 day pass.\n  Use the non-binding registration form for the Club group ride.\n
DTSTAMP:20260424T164029Z
END:VEVENT
END:VCALENDAR
