BEGIN:VCALENDAR
VERSION:2.0
METHOD:PUBLISH
BEGIN:VEVENT
UID:WILD_APRICOT_EVENT_2347840_SESSION_1
DTSTART:20161022T220000Z
DTEND:20161022T220000Z
SUMMARY:BMWMCCACT October Monthly General Meeting (Club Event)
LOCATION:Casuarina Sands Reserve\, ACT
DESCRIPTION:https://www.bmwmccact.org.au/event-2347840\n\n  The regular monthly club meeting will be held at Casuarina Sands Reserve BBQ's\, following the usual cooked breakfast starting at 0900.\n  For $5 you can purchase one egg & bacon roll + one coffee or juice.  Additional coffee's are $2 each.  Please help by bringing the right change and help to cook and clean up.\n  The meeting will start 0930\, finish by 1000 and followed by a ride to a location organised on the day.\n
DTSTAMP:20260424T164038Z
END:VEVENT
END:VCALENDAR
