BEGIN:VCALENDAR
VERSION:2.0
METHOD:PUBLISH
BEGIN:VEVENT
UID:WILD_APRICOT_EVENT_2346615_SESSION_1
DTSTART:20161124T230000Z
DTEND:20161127T050000Z
SUMMARY:2016 Moto Expo Melbourne
LOCATION:Melbourne Showgrounds\, Victoria
DESCRIPTION:https://www.bmwmccact.org.au/event-2346615\n\nReturning to the Melbourne Showgrounds for a second time\, showcasing all the latest models and with entertainment for the whole family Troy Bayliss Events has announced the second instalment of Moto Expo Melbourne will be held at the Victorian capital's showgrounds from November 25-27.\n  The first Moto Expo in 2014 proved to be a resounding success\, and TBE is likely to follow a similar formula in 2016 with all the latest bikes and accessories on hand as well as a multitude of other static displays\, complemented by high-octane events such as the popular 'Bayliss Scramble' as well demonstrations across the two-wheel spectrum.\n  The timing of Moto Expo is also ideal\, coming just a couple of weeks after the massive EICMA motorcycle show in Milan which should ensure that all the newest models are air-freighted to Australia in time for the festivities.\n  Moto Expo's doors will first open at 10:00am on Friday\, November 25\, and admission will be $22 for adults\, $16 for children 5-15yrs\, $18 for seniors and $75 for a family.\n
DTSTAMP:20260424T181309Z
END:VEVENT
END:VCALENDAR
