BEGIN:VCALENDAR
VERSION:2.0
METHOD:PUBLISH
BEGIN:VEVENT
UID:WILD_APRICOT_EVENT_2340251_SESSION_1
DTSTART:20161105T213000Z
DTEND:20161105T213000Z
SUMMARY:Ride 2 Breakfast - Roses Cafe Goulburn (Club Event)
LOCATION:Roses Cafe\, Montague St Goulburn
DESCRIPTION:https://www.bmwmccact.org.au/event-2340251\n\nUpdated 3 November 2016\n  Join the Club for breakfast at Roses Cafe Goulburn.\n  \n  Martin Robertson will lead the group ride departing from the Kings Highway outside Red Rooster Queanbeyan at 0830 for a scenic ride to Goulburn and return via Gunning for those interested in making it a day ride.  Or you can make your on way their and home.  \n  Remember to use the non-binding registration form if your planning on coming along.  This helps both the organiser and café arrange seating and staff for the day. \n
DTSTAMP:20260424T170105Z
END:VEVENT
END:VCALENDAR
