BEGIN:VCALENDAR
VERSION:2.0
METHOD:PUBLISH
BEGIN:VEVENT
UID:WILD_APRICOT_EVENT_2338771_SESSION_1
DTSTART:20161020T200000Z
DTEND:20161020T220000Z
SUMMARY:Bikers Breakfast\, Motorcycle Awareness Week 2016\, MRA ACT
LOCATION:Old Parliament House West Lawns\, King Edward Terrace Barton
DESCRIPTION:https://www.bmwmccact.org.au/event-2338771\n\nJoin the MRA ACT for a Rider's Breakfast and Motorcycle Awareness Week 2016.\n\n  Check the details and flyer here.\n\n
DTSTAMP:20260424T170443Z
END:VEVENT
END:VCALENDAR
