BEGIN:VCALENDAR
VERSION:2.0
METHOD:PUBLISH
BEGIN:VEVENT
UID:WILD_APRICOT_EVENT_2338764_SESSION_1
DTSTART:20161019T073000Z
DTEND:20161019T093000Z
SUMMARY:MRA ACT - How Good Is Your Protective Clothing (Forum)
LOCATION:Spanish Australian Club\, Narrabundah
DESCRIPTION:https://www.bmwmccact.org.au/event-2338764\n\nRIDERS FORUM: HOW GOOD IS YOUR PROTECTIVE CLOTHING? \n\n  Come along and hear the researchers who were on the ABC’s Catalyst Program about motorcycle clothing.\n  You can check the MRA ACT flyer and details here.\n
DTSTAMP:20260424T181120Z
END:VEVENT
END:VCALENDAR
