BEGIN:VCALENDAR
VERSION:2.0
METHOD:PUBLISH
BEGIN:VEVENT
UID:WILD_APRICOT_EVENT_2333245_SESSION_1
DTSTART:20170210T010000Z
DTEND:20170212T040000Z
SUMMARY:40th Karuah River Rally\, BMWTCNSW
LOCATION:30km out from Dungog NSW
DESCRIPTION:https://www.bmwmccact.org.au/event-2333245\n\nThe 40th BMWTCNSW Karuah River Rally is held at Frying Pan Creek in the picturesque Chichester State Forest 30 km from Dungog NSW.  The final 15km is dirt and depending on the weather (it almost always rains) can provide an interesting ride in.  No cars without prior arrangement\n  Cost $25pp includes a badge and Sunday breakfast.\n  Check out the flyer or BMWTCNSW website for more and up to date information or email Rob Lovett rob@gasightbooks.com.au.\n  Interested in making a 4 day ride of the weekend?  Use the registration form to join a group ride from Canberra or email rides@bmwmccact.org.au.\n
DTSTAMP:20260424T180753Z
END:VEVENT
END:VCALENDAR
