BEGIN:VCALENDAR
VERSION:2.0
METHOD:PUBLISH
BEGIN:VEVENT
UID:WILD_APRICOT_EVENT_2319381_SESSION_1
DTSTART:20161203T010000Z
DTEND:20161203T040000Z
SUMMARY:BMWMCCACT Awards & Christmas Lunch (Club Event)
LOCATION:Rodney's Nursery\, Pialligo
DESCRIPTION:https://www.bmwmccact.org.au/event-2319381\n\nBMWMCCACT Awards & Christmas Lunch\n\n  Come and celebrate the Club Awards\, and enjoy a Christmas Lunch at Rodney's Cafe within Rodney's Nursery\, Beltana Rd\, Piallago from 12 midday on Saturday 3rd December 2015.\n  The Club has arranged a delicious 3-course meal in the private function room for a very reasonable $55.00 per person.\n  Please note that the Cafe is BYO alcohol drinks with coffee and soft drinks available for sale additional cost. If you have special dietary requirements please let the Social Secretary Steve Hay know in advance.\n  You can navigate there using your bike or car's navigator or Google Map link here. Centrally located near the airport.\n  To come along you need to click the registration button and an invoice will be sent to you.\n   Bookings must be finalised by Friday 2nd December 2015.\n   \n
DTSTAMP:20260424T181608Z
END:VEVENT
END:VCALENDAR
