BEGIN:VCALENDAR
VERSION:2.0
METHOD:PUBLISH
BEGIN:VEVENT
UID:WILD_APRICOT_EVENT_2291271_SESSION_1
DTSTART:20170902T230000Z
DTEND:20170902T230000Z
SUMMARY:Ride-2-Breakfast - Poppy's Cafe\, Australian War Memorial (Club Event)
LOCATION:Australian War Memorial\, Campbell\, ACT
DESCRIPTION:https://www.bmwmccact.org.au/event-2291271\n\nJoin the Club for breakfast at Poppy's Cafe\, located outside of the Australian War Memorial\, Campbell\, ACT.\n  Need a map?  Click here.  \n     Make your own way there for a 0900 start.  AWM Volunteer Guide & Club Member Steve Hay has offered to host a tour of a selected gallery after breakfast.\n   \n      Please use the preregistration form and if you have any questions contact Steve Hay social@bmwmccact.org.au. 
DTSTAMP:20260424T170258Z
END:VEVENT
END:VCALENDAR
