BEGIN:VCALENDAR
VERSION:2.0
METHOD:PUBLISH
BEGIN:VEVENT
UID:WILD_APRICOT_EVENT_2290085_SESSION_1
DTSTART:20161217T210000Z
DTEND:20161218T040000Z
SUMMARY:Day Ride through the Snowy Mountains\, (Club Event)
LOCATION:Snowy Mountains\, NSW
DESCRIPTION:https://www.bmwmccact.org.au/event-2290085\n\nUpdated 16 Dec 16\n Change of day to Sunday 18 Dec 16.\n\n  The BOM have forecast rain for Saturday and cloud/sun on Sunday http://www.bom.gov.au/nsw/forecasts/map7day.shtml.\n  Due to weather forecast the ride is changed to Sunday. Check event for update Saturday 17 night.\n  Departure will be the BP servo\, Benham St Chisholm.  A group descision will be taken at the meeting point or call/text me on 0400 264372.  For those meeting us enroute\, I'll call before/if/when leaving Canberra so you can adjust your ride.\n  This event will be updated <2100 / 9pm 16 December 2016.  So check back then or for registrants check your email.\n  Garry Smee\, rides@bmwmccact.org.au.\n
DTSTAMP:20260424T170751Z
END:VEVENT
END:VCALENDAR
