BEGIN:VCALENDAR
VERSION:2.0
METHOD:PUBLISH
BEGIN:VEVENT
UID:WILD_APRICOT_EVENT_2287656_SESSION_1
DTSTART:20161104T130000Z
DTEND:20161105T130000Z
SUMMARY:The Snowy Ride\, Steven Walter Children's Cancer Foundation
LOCATION:Snowy Mountains Region\, NSW
DESCRIPTION:https://www.bmwmccact.org.au/event-2287656\n\nThe Snowy Ride is a motorcycle event run annually in the Alpine Region of NSW since 2001 and has helped the Steven Walter Children’s Cancer Foundation (SWCCF) raise in excess of $6 million which has gone towards research into a cure for childhood cancer.\n  SWCCF organises and is the main benefactor of the Snowy Ride. It’s a non-profit organisation which was started following the passing of nineteen year old Steven Walter after an eight year battle with cancer. The Foundation is involved in raising money for research into childhood cancer and the side effects of cancer treatment in children.\n  All monies raised by the SWCCF goes to childhood cancer research programs and support of children with cancer. The aim of the Snowy Ride was to involve the motorcycle riders of Australia into raising money for research into childhood cancer and its side effects and to give the local volunteer organisations of the Snowy mountains area the chance to raise money for their own communities.\n
DTSTAMP:20260424T181038Z
END:VEVENT
END:VCALENDAR
