BEGIN:VCALENDAR
VERSION:2.0
METHOD:PUBLISH
BEGIN:VEVENT
UID:WILD_APRICOT_EVENT_2287655_SESSION_1
DTSTART:20161104T010000Z
DTEND:20161106T040000Z
SUMMARY:22nd Trout Rally\, Tumut Valley Riders
LOCATION:3 Mile Dam\, Kosciuszko National Park
DESCRIPTION:https://www.bmwmccact.org.au/event-2287655\n\nFor those who enjoy riding the Snowy Mountains\, then why not go along to TVR's Trout Rally held on the banks of 3 Mile Dam.  Raffle prizes include some of the best locally caught and freshly smoked trout.\n  Very much BYO & check the flyer here.\n
DTSTAMP:20260424T163815Z
END:VEVENT
END:VCALENDAR
