BEGIN:VCALENDAR
VERSION:2.0
METHOD:PUBLISH
BEGIN:VEVENT
UID:WILD_APRICOT_EVENT_2287651_SESSION_1
DTSTART:20161014T010000Z
DTEND:20161016T040000Z
SUMMARY:Spaghetti Rally\, Moto Guzzi Club of Victoria
LOCATION:Edi Cutting\, Victoria
DESCRIPTION:https://www.bmwmccact.org.au/event-2287651\n\n  Cannot make the BMW National Motorrad Rally in Bright?\n  Then why not go to the MGCoV Spaghetti Rally at Edi in Victoria's picturesque King Vally.\n  Check the MGCoV website for details here and highlights:\n      * Friday night will be a spit roast at $10 a plate\, and we hope to have eggs and bacon for breakfast both Saturday and Sunday morning.\n\n        * No bus\, no ungrateful pub\, but more on-site entertainment.\n\n        * $30.00 for badge and feed of spaghetti on Saturday night (byo eating tackle)\;\n\n        * bags of ice for sale (cost price) from our chiller\;\n\n        * firewood\;\n\n        * portaloos.\n\n  .\n
DTSTAMP:20260424T164558Z
END:VEVENT
END:VCALENDAR
