BEGIN:VCALENDAR
VERSION:2.0
METHOD:PUBLISH
BEGIN:VEVENT
UID:WILD_APRICOT_EVENT_2286807_SESSION_1
DTSTART:20170101T130000Z
DTEND:20170114T130000Z
SUMMARY:2017 Dakar Rally
LOCATION:South America
DESCRIPTION:https://www.bmwmccact.org.au/event-2286807\n\n\n  Can Toby Price do it again?\n  The Dakar website is here.\n  SBS have a 30 minute highlights package on from 5.30PM AEST\; check the SBS:\n      * ACT  program guide\,\n\n        * On Demand http://www.sbs.com.au/ondemand/\n\n        * Or watch the Stage highlights online here.\n\n\n
DTSTAMP:20260424T163953Z
END:VEVENT
END:VCALENDAR
