BEGIN:VCALENDAR
VERSION:2.0
METHOD:PUBLISH
BEGIN:VEVENT
UID:WILD_APRICOT_EVENT_2286748_SESSION_1
DTSTART:20161119T230000Z
DTEND:20161120T050000Z
SUMMARY:2016 Economy Ride (Club Event)
LOCATION:Canberra - Marulan - Canberra
DESCRIPTION:https://www.bmwmccact.org.au/event-2286748\n\n\n     Come along for a ride for lunch and test your bikes fuel economy amongst the group.   We will meet at the BP Yass Road Queanbeyan\, fill up and zero the trip meters before riding to Bungonia Lookdown (tourist stop) and on to the Terminus Hotel Marulan for lunch and return via Gunning and Sutton before finishing at the BP Watson where we will fill up and complete our post ride reports (name\, bike\, km travelled & litres used).  Check the 288km route here.\n  Don't have 300km fuel range?  No problem\; fill up in Marulan\, keep the details and complete the form.\n  Need an incentive?  Accessorise your bike and get some bonus l/km over the competition:  \n      * +pillion\, -0.2 l/km\n\n        * +panniers (empty or full)\, -0.1 l/km\n\n        * knobby tyres fitted (eg: Scorpion\, Tourance or new TKC's don't count\; E07's\, Karoo 3 and old TKC80's do)\, -0.1 l/km\n\n        * having an invite to make a donation on the day\, -0.1 l/km\n\n  to a maximum of -0.3 l/km.   \n  The Ride Coordinator will have the forms on the day.  \n
DTSTAMP:20260424T181150Z
END:VEVENT
END:VCALENDAR
