BEGIN:VCALENDAR
VERSION:2.0
METHOD:PUBLISH
BEGIN:VEVENT
UID:WILD_APRICOT_EVENT_2286725_SESSION_1
DTSTART:20161125T213000Z
DTEND:20161126T063000Z
SUMMARY:2016 Snowy 1000 Runway Sprint
LOCATION:Snowy Mountains Airport\, Cooma NSW
DESCRIPTION:https://www.bmwmccact.org.au/event-2286725\n\n\n  Feel the 'need for speed' and want to enjoy a ride to the mountains at the same time?\n  Check the website for details  Snowy Mountains 1000 held at Snowy Mountains Airport 16km south of Cooma on the Kosciuszko Road to Jindabyne.\n
DTSTAMP:20260424T164501Z
END:VEVENT
END:VCALENDAR
