BEGIN:VCALENDAR
VERSION:2.0
METHOD:PUBLISH
BEGIN:VEVENT
UID:WILD_APRICOT_EVENT_2284264_SESSION_1
DTSTART:20161111T040000Z
DTEND:20161113T040000Z
SUMMARY:35th Fish Holes Rally\, South West Touring Club
LOCATION:Enduro Road\, Portland Victoria
DESCRIPTION:https://www.bmwmccact.org.au/event-2284264\n\nSouth West Touring Club Inc. are holding their 35th annual motorcycle rally at the Fish Holes site\, Enduro Road near Portland Victoria.  Follow the rally signs from the Shell servo at Portland\, indicative map here.\n      *             Fully catered\, NO B.Y.O.        \n\n        *             Showers\, Toilets and firewood supplied.        \n\n        *             Music Friday night\, Gymkhana Saturday afternoon\, and band Saturday night.        \n\n        *             No glass\, No cars\, No walk-ins\, registered bikes only.        \n\n        *             Entry fee prepaid $20.00 or at gate $ 25.00.         \n\n
DTSTAMP:20260424T181318Z
END:VEVENT
END:VCALENDAR
