BEGIN:VCALENDAR
VERSION:2.0
METHOD:PUBLISH
BEGIN:VEVENT
UID:WILD_APRICOT_EVENT_2260895_SESSION_1
DTSTART:20170331T210000Z
DTEND:20170402T070000Z
SUMMARY:Touratech Travel Event 2017
LOCATION:Bright\, Victoria
DESCRIPTION:https://www.bmwmccact.org.au/event-2260895\n\nYou Must Pre-register with Touratech to attend some elements of this Event.\n  The 2017 Touratech Travel Event will be held over the weekend 1-2 April 2017.\n  You can stay up to date with event planning and event registration on the Touratech website or their Facebook page or call the Touratech office (03) 5729 5529.\n  You must pre-register for some activities\, whilst others are open to the public.\n
DTSTAMP:20260424T180737Z
END:VEVENT
END:VCALENDAR
