BEGIN:VCALENDAR
VERSION:2.0
METHOD:PUBLISH
BEGIN:VEVENT
UID:WILD_APRICOT_EVENT_2250166_SESSION_1
DTSTART:20170226T220000Z
DTEND:20170303T060000Z
SUMMARY:Dry Lake Racers Australia 2017 - 27th Annual Speed Week
LOCATION:Lake Gairdner South Australia
DESCRIPTION:https://www.bmwmccact.org.au/event-2250166\n\n\n  Dry Lake Racers Australia\n 27th Annual Speed Week\n  Held on Lake Gairdner South Australia\, ~1600km from Canberra with a map here.  The nearest camp with water\, showers and toilets is Mt Ive Station 38km from the lake.  You must be entirely self sufficient at the lake's edge 'bush camp'.\n  What's it all about?  Check out Sunrise' story on You Tube. \n \n Check the DLRA webpage for details here.\n  Racing is weather dependant and requires a hot dry summer\, so plan an extended trip though the Gawler Rangers and districts as a backup.\n  \n\n
DTSTAMP:20260424T164916Z
END:VEVENT
END:VCALENDAR
