BEGIN:VCALENDAR
VERSION:2.0
METHOD:PUBLISH
BEGIN:VEVENT
UID:WILD_APRICOT_EVENT_2247748_SESSION_1
DTSTART:20170519T140000Z
DTEND:20170521T140000Z
SUMMARY:Motor Guzzi Club of QLD\, 24th Ruptured Budgie Rally
LOCATION:Mingoola\, Qld (~60km west of Tenterfield on Bruxner Hwy)
DESCRIPTION:https://www.bmwmccact.org.au/event-2247748\n\n     \n  Hosted by the Moto Guzzi Club of Queensland at Mingoola\, about 60km west of Tenterfield on the Bruxner Highway\, Queensland.\n      *             Good camping spots by the river\, plenty of firewood onsite.        \n\n        *             Fully catered with licensed bar from Friday dinner to Sunday breakfast.        \n\n        *             All the usual rally awards\, plus some not so usual ones        \n\n        *      $25 entry\, includes badge.\n   \n\n  Check the MGCQLD webpage for details.\n
DTSTAMP:20260424T170114Z
END:VEVENT
END:VCALENDAR
