BEGIN:VCALENDAR
VERSION:2.0
METHOD:PUBLISH
BEGIN:VEVENT
UID:WILD_APRICOT_EVENT_2237308_SESSION_1
DTSTART:20161118T210000Z
DTEND:20161118T210000Z
SUMMARY:2016 Bombala Bike Show
LOCATION:Bombala Showground\, Bombala NSW
DESCRIPTION:https://www.bmwmccact.org.au/event-2237308\n\n                   \n       Check the website for details here         
DTSTAMP:20260424T163932Z
END:VEVENT
END:VCALENDAR
