BEGIN:VCALENDAR
VERSION:2.0
METHOD:PUBLISH
BEGIN:VEVENT
UID:WILD_APRICOT_EVENT_2212288_SESSION_1
DTSTART:20161027T130000Z
DTEND:20161030T130000Z
SUMMARY:35th Thunder Rally\, Ducati Owners Club NSW
LOCATION:Sheba Dam Nundle (Hunter Valley)\, NSW
DESCRIPTION:https://www.bmwmccact.org.au/event-2212288\n\nCheck the DOCNSW website here for details and location map http://www.docnsw.org.au/thunder-rally.\n
DTSTAMP:20260424T170853Z
END:VEVENT
END:VCALENDAR
