BEGIN:VCALENDAR
VERSION:2.0
METHOD:PUBLISH
BEGIN:VEVENT
UID:WILD_APRICOT_EVENT_2207152_SESSION_1
DTSTART:20161202T230000Z
DTEND:20161202T230000Z
SUMMARY:Marlo (Hotel) Motorcycle Show
LOCATION:Marlo (Hotel)\, Victoria
DESCRIPTION:https://www.bmwmccact.org.au/event-2207152\n\nThis is the 2016 Event\, so ignore last years poster below\, other than event and contact information that remains the same.\n  On Facebook\, then www.facebook/marlomotorcycleshow.com\n  \n
DTSTAMP:20260424T163805Z
END:VEVENT
END:VCALENDAR
