BEGIN:VCALENDAR
VERSION:2.0
METHOD:PUBLISH
BEGIN:VEVENT
UID:WILD_APRICOT_EVENT_2179443_SESSION_1
DTSTART:20171013T040000Z
DTEND:20171015T040000Z
SUMMARY:BMWMCCACT 2017 36th Kosciuszko Rally (Club Event)
LOCATION:Geehi Hut Campsite\, Alpine Way Kosciuskzo NP\, NSW
DESCRIPTION:https://www.bmwmccact.org.au/event-2179443\n\n    The 36th Kosciuskzo Rally will be held at the Geehi Hut Campground located on the sealed Alpine Way in the picturesque Snowy Mountains and home to some of the best motorcycling roads in Australia.  Rally supplies can be purchased at Thredbo (43km) or Khancoban (31km).\n  Kosciuskzo National Park has entry fees and remember to please take your rubbish out with you.\n  Your entry of $20pp includes a raffle ticket and opportunity to win a great selection of prizes and enter in the usual and unusual rally awards.\n  Rally proceeds are donated to the RFDS.  Thanks to our supporters in 2016 this was $1000.\n  The Club will provide firewood and for sale the ever popular Germanic Kransky and salad + soft drink for $8 and fresh egg & bacon rolls on Sunday morning with espresso or popper juice for $6.  Additional drinks $2 each.\n  The BMWMCCACT Inc. is not responsible for any damage or loss arising from your attendance at the rally.\n
DTSTAMP:20260424T170533Z
END:VEVENT
END:VCALENDAR
