BEGIN:VCALENDAR
VERSION:2.0
METHOD:PUBLISH
BEGIN:VEVENT
UID:WILD_APRICOT_EVENT_2177362_SESSION_1
DTSTART:20170217T223000Z
DTEND:20170219T050000Z
SUMMARY:UPDATED - Overnight Ride to Yerranderie (Club Event)
LOCATION:Depart from Caltex Servo Kings Hwy\, Queanbeyan
DESCRIPTION:https://www.bmwmccact.org.au/event-2177362\n\nUPDATE 14 FEB 17 - New Route & Venue \n  Join the Club for an overnight ride to the abandoned mining town within Yerranderie Regional Park.  Part of the greater Blue Mountains National Park and administered by NSW NPWS.\n  \n  This is a self catered camp so you will need everything after Crookwell (refuel) and last supplies at Taralga.  There are no supplies in Yerranderie other than water.\n  Camping at Yerranderie is $14 per person with grassed camping\, amenities (hot/cold shower & toilets) and firewood provided.  Cash only with no EFTPOS facilities!\n  The caretaker laughed at my rain & boggy roads inquiry\, but based on previous experience the road in is suited to moderate adventure riders with plenty of rocky outcrops.  Bring the camera as the 'town' is well worth the visit.\n  A Google route map is here and one for the those with Garmin or Tom Tom navigators and weather forecast for Bathurst is here\, noting Yerranderie is a bit higher ~1100m so the overnight temps can be cooler.\n  Departure will be Caltex Servo Queanbeyan 0930 for the ride up to Sutton\, Gunning and Crookwell (fuel)\; morning tea/lunch in Taralga and on to Yerranderie.  Not the usual Red Rooster.\n  Please use the pre-registration form so the Club knows who to expect.  Previous registrants need to re-register.\n  Questions? Contact Rides@bmwmccact.org.au.\n
DTSTAMP:20260424T163836Z
END:VEVENT
END:VCALENDAR
