BEGIN:VCALENDAR
VERSION:2.0
METHOD:PUBLISH
BEGIN:VEVENT
UID:WILD_APRICOT_EVENT_2152364_SESSION_1
DTSTART:20170126T210000Z
DTEND:20170129T060000Z
SUMMARY:2017 24th International Island Classic
LOCATION:Phillip Island\, Victoria
DESCRIPTION:https://www.bmwmccact.org.au/event-2152364\n\n\n In its 24th consecutive year the event features the International challenge fiercely contested between Australia\, UK\, US\, NZ and now Irish teams with a points score challenge for the perpetual Phil Irving trophy.  Champions from past and present converge on the famous Phillip Island Circuit from all over the world for the classic so you never know who you might bump into.\n  Event & Ticket information here:\n  Web:  http://islandclassic.com.au/island-classic-home\n  Email:  info@phillipislandcircuit.com.au\n
DTSTAMP:20260424T164440Z
END:VEVENT
END:VCALENDAR
