BEGIN:VCALENDAR
VERSION:2.0
METHOD:PUBLISH
BEGIN:VEVENT
UID:WILD_APRICOT_EVENT_2145077_SESSION_1
DTSTART:20161224T130000Z
DTEND:20161227T130000Z
SUMMARY:Christmas & Boxing Day Public Holidays
LOCATION:Canberra\, ACT
DESCRIPTION:https://www.bmwmccact.org.au/event-2145077\n\nSee http://www.cmd.act.gov.au/communication/holidays\n
DTSTAMP:20260424T164543Z
END:VEVENT
END:VCALENDAR
