BEGIN:VCALENDAR
VERSION:2.0
METHOD:PUBLISH
BEGIN:VEVENT
UID:WILD_APRICOT_EVENT_2122408_SESSION_1
DTSTART:20161106T040000Z
DTEND:20161111T070000Z
SUMMARY:BMW GS Safari
LOCATION:South East Queensland
DESCRIPTION:https://www.bmwmccact.org.au/event-2122408\n\nBMW GS Safari \n  You must have pre-registered with BMW\n  Location: South East Queensland\n  Still in the planning stages the 2016 GS Safari is being planned for commencement in early November 2016. Registration will again open in August. More details around this event will be available early in 2016\n  Registration opens : 9th August 2016\n  Check the BMW Motorrad website for details http://www.bmwsafari.com/events/2016-bmw-gs-safari/\n\n
DTSTAMP:20260424T164201Z
END:VEVENT
END:VCALENDAR
