BEGIN:VCALENDAR
VERSION:2.0
METHOD:PUBLISH
BEGIN:VEVENT
UID:WILD_APRICOT_EVENT_2074998_SESSION_1
DTSTART:20161020T210000Z
DTEND:20161023T060000Z
SUMMARY:2016 Australian MotoGP
LOCATION:Phillip Island\, Victoria
DESCRIPTION:https://www.bmwmccact.org.au/event-2074998\n\nKeep up to date with the 2016 MotoGP at Phillip Island here: http://www.motogp.com.au/\n  Travel package information is here http://www.grandprixtravel.com.au/bikes16/pack/home.asp.\n
DTSTAMP:20260424T181421Z
END:VEVENT
END:VCALENDAR
