BEGIN:VCALENDAR
VERSION:2.0
METHOD:PUBLISH
BEGIN:VEVENT
UID:WILD_APRICOT_EVENT_2033753_SESSION_1
DTSTART:20170121T213000Z
DTEND:20170121T230000Z
SUMMARY:BMWMCCACT January Monthly General Meeting (Club Event)
LOCATION:Scrivener Dam BBQ (across from Zoo)
DESCRIPTION:https://www.bmwmccact.org.au/event-2033753\n\nNote the change in date\n to avoid Australia Day\n  The regular monthly club meeting wil be held at Scrivener Dam BBQ's off Lady Denman Drive (just past the National Zoo & Aquarium) following the usual cooked breakfast starting at 0830.\n  For $5 you can purchase one egg & bacon roll + one coffee.  Additional coffee's are $2 each.  Please bring the right change & Australian currency.\n  Have a first aid kit on your bike (& you should)?  Then bring along your first aiding thoughts\, experiences and customised options and share them with other members.  Don't forget Members can access Club subsidised first aid training. \n  The meeting will start 0900\, finish by 0930 and followed by a ride to a location organised on the day.\n
DTSTAMP:20260424T164901Z
END:VEVENT
END:VCALENDAR
