BEGIN:VCALENDAR
VERSION:2.0
METHOD:PUBLISH
BEGIN:VEVENT
UID:WILD_APRICOT_EVENT_2033752_SESSION_1
DTSTART:20161224T130000Z
DTEND:20161225T130000Z
SUMMARY:There is NO BMWMCCACT December Monthly General Meeting
LOCATION:There is no meeting
DESCRIPTION:https://www.bmwmccact.org.au/event-2033752\n\nThere is NO monthly meeting for December and Christmas - New Year break.\n  Planning a ride and want company?  Then email the details to rides@bmwmccact.org.au who will send on your ride details to Club members.  you need to provide a start time & location\, end point and your contact details.\n  Merry Christmas and happy New Year to you and yours\,\n  President & Committee\n
DTSTAMP:20260424T180802Z
END:VEVENT
END:VCALENDAR
