BEGIN:VCALENDAR
VERSION:2.0
METHOD:PUBLISH
BEGIN:VEVENT
UID:WILD_APRICOT_EVENT_2033750_SESSION_1
DTSTART:20161126T213000Z
DTEND:20161126T213000Z
SUMMARY:BMWMCCACT November Monthly General Meeting (Club Event)
LOCATION:Tharwa Bridge Reserve\, Tharwa
DESCRIPTION:https://www.bmwmccact.org.au/event-2033750\n\nThe regular monthly club meeting will be held at Tharwa Bridge Reserve Lanyon Drive Tharwa (just over the bridge) following the usual cooked breakfast starting at 0830.\n  Do you have a non-standard or enhanced tool kit on your bike?  Then bring it along to the meeting and share your tips with members at the meeting.  \n  For $5 you can purchase one egg & bacon roll + one coffee.  Additional coffee's are $2 each.  Please bring the right change.\n  The meeting will start 0900 and finish by 0930 and followed by a ride to a location organised on the day.\n
DTSTAMP:20260424T165114Z
END:VEVENT
END:VCALENDAR
