BEGIN:VCALENDAR
VERSION:2.0
METHOD:PUBLISH
BEGIN:VEVENT
UID:WILD_APRICOT_EVENT_1918832_SESSION_1
DTSTART:20161111T010000Z
DTEND:20161114T010000Z
SUMMARY:BMW Clubs Australia National Motorrad Rally 2016 (Club Event)
LOCATION:Bright\, Victoria
DESCRIPTION:https://www.bmwmccact.org.au/event-1918832\n\nUpdated 1 July 2016\n  The BMWMCCVIC will host the BMW Clubs Australia National Motorrad Rally 2016 in Bright\, Victoria over the weekend11-14 November 2016.\n  Online registration for the rally opens 1 July 2016 on Eventbrite.  The rally flyer is here.\n  The rally is only open to members of BMW Clubs and you must have pre-purchased a ticket before the event.\n  Look for a Club group ride from Canberra- Bright closer to the date for those interested\, through the Snowy Mountains.\n   \n
DTSTAMP:20260424T164050Z
END:VEVENT
END:VCALENDAR
