BEGIN:VCALENDAR
VERSION:2.0
METHOD:PUBLISH
BEGIN:VEVENT
UID:WILD_APRICOT_EVENT_1909688_SESSION_1
DTSTART:20170413T220000Z
DTEND:20170417T050000Z
SUMMARY:BMW Car Clubs Australia Nationals 2017 (Club Event)
LOCATION:Queensland
DESCRIPTION:https://www.bmwmccact.org.au/event-1909688\n\n\n  \n  \n  The BMW Club Queensland and BMW Club Gold Coast are hosting the BMW Clubs Australia Nationals over Easter 2017.  Whilst targeting BMW car owners\, as a BMWCA member club\, you also have the opportunity to attend.\n  You can read about the event\, sign up to the newsletter and register to attend one or all of the many events here.\n  Press Release 26 Feb 16  2017 Nationals-PR.PDF\n
DTSTAMP:20260424T173017Z
END:VEVENT
END:VCALENDAR
